BEGIN:VCALENDAR
VERSION:2.0
PRODID:-//Eventos Zenia Boulevard//NONSGML v1.0//EN
CALSCALE:GREGORIAN
BEGIN:VEVENT
DTSTART:20260425T000000
DTEND:20260425T000000
SUMMARY:Dance for everyone 
DESCRIPTION:From 17:00 PM to 8:30 PM
LOCATION:Zenia Boulevard
URL:https://zeniaboulevard.es/eventos
END:VEVENT
BEGIN:VEVENT
DTSTART:20260425T000000
DTEND:20260425T000000
SUMMARY: Job Fair
DESCRIPTION:12a.m. to 4p.m.
LOCATION:Zenia Boulevard
URL:https://zeniaboulevard.es/eventos
END:VEVENT
BEGIN:VEVENT
DTSTART:00260502T000000
DTEND:00260502T000000
SUMMARY:Mother’s Day
DESCRIPTION:4:00 pm to 8:00 pm
LOCATION:Zenia Boulevard
URL:https://zeniaboulevard.es/eventos
END:VEVENT
BEGIN:VEVENT
DTSTART:20260523T000000
DTEND:20260523T000000
SUMMARY:Cosplay Contest
DESCRIPTION:7pm
LOCATION:Zenia Boulevard
URL:https://zeniaboulevard.es/eventos
END:VEVENT
END:VCALENDAR
